BEGIN:VCALENDAR
VERSION:2.0
PRODID:-//のまぼど - ECPv6.6.2//NONSGML v1.0//EN
CALSCALE:GREGORIAN
METHOD:PUBLISH
X-WR-CALNAME:のまぼど
X-ORIGINAL-URL:https://test3.marukan-smile.com
X-WR-CALDESC:のまぼど のイベント
REFRESH-INTERVAL;VALUE=DURATION:PT1H
X-Robots-Tag:noindex
X-PUBLISHED-TTL:PT1H
BEGIN:VTIMEZONE
TZID:Asia/Tokyo
BEGIN:STANDARD
TZOFFSETFROM:+0900
TZOFFSETTO:+0900
TZNAME:JST
DTSTART:20240101T000000
END:STANDARD
END:VTIMEZONE
BEGIN:VEVENT
DTSTART;TZID=Asia/Tokyo:20240706T100000
DTEND;TZID=Asia/Tokyo:20240706T160000
DTSTAMP:20260422T074433
CREATED:20240703T124433Z
LAST-MODIFIED:20240703T124433Z
UID:371-1720260000-1720281600@test3.marukan-smile.com
SUMMARY:北方ボードゲーム会
DESCRIPTION:申込不要
URL:https://test3.marukan-smile.com/event/%e5%8c%97%e6%96%b9%e3%83%9c%e3%83%bc%e3%83%89%e3%82%b2%e3%83%bc%e3%83%a0%e4%bc%9a/
LOCATION:延岡市立図書館 北方分館\, 延岡市\, 宮崎県\, 8820856\, 日本
END:VEVENT
BEGIN:VEVENT
DTSTART;TZID=Asia/Tokyo:20240623T100000
DTEND;TZID=Asia/Tokyo:20240623T150000
DTSTAMP:20260422T074433
CREATED:20240811T072259Z
LAST-MODIFIED:20240811T072624Z
UID:510-1719136800-1719154800@test3.marukan-smile.com
SUMMARY:ボードゲームフェス
DESCRIPTION:日時：6月23日(日) 10:00〜18:00\n場所：かわまち交流館\n入場料：500円（未就学児無料） 参加者数：133名 \n予想以上の集まりで会場も盛り上がった。 \n日時：6月23日(日) 10:00〜18:00\n場所：かわまち交流館\n入場料：500円（未就学児無料） 参加者数：133名
URL:https://test3.marukan-smile.com/event/510/
LOCATION:かわまち交流館
ORGANIZER;CN="%E5%B0%8F%E7%94%B0%E3%80%80%E6%B4%B8":MAILTO:nomabodo@gmail.com
END:VEVENT
END:VCALENDAR