BEGIN:VCALENDAR
VERSION:2.0
PRODID:-//のまぼど - ECPv6.6.2//NONSGML v1.0//EN
CALSCALE:GREGORIAN
METHOD:PUBLISH
X-WR-CALNAME:のまぼど
X-ORIGINAL-URL:https://test3.marukan-smile.com
X-WR-CALDESC:のまぼど のイベント
REFRESH-INTERVAL;VALUE=DURATION:PT1H
X-Robots-Tag:noindex
X-PUBLISHED-TTL:PT1H
BEGIN:VTIMEZONE
TZID:Asia/Tokyo
BEGIN:STANDARD
TZOFFSETFROM:+0900
TZOFFSETTO:+0900
TZNAME:JST
DTSTART:20240101T000000
END:STANDARD
END:VTIMEZONE
BEGIN:VEVENT
DTSTART;TZID=Asia/Tokyo:20240706T100000
DTEND;TZID=Asia/Tokyo:20240706T160000
DTSTAMP:20260422T031916
CREATED:20240703T124433Z
LAST-MODIFIED:20240703T124433Z
UID:371-1720260000-1720281600@test3.marukan-smile.com
SUMMARY:北方ボードゲーム会
DESCRIPTION:申込不要
URL:https://test3.marukan-smile.com/event/%e5%8c%97%e6%96%b9%e3%83%9c%e3%83%bc%e3%83%89%e3%82%b2%e3%83%bc%e3%83%a0%e4%bc%9a/
LOCATION:延岡市立図書館 北方分館\, 延岡市\, 宮崎県\, 8820856\, 日本
END:VEVENT
BEGIN:VEVENT
DTSTART;TZID=Asia/Tokyo:20240714T130000
DTEND;TZID=Asia/Tokyo:20240714T160000
DTSTAMP:20260422T031916
CREATED:20240703T125651Z
LAST-MODIFIED:20240704T073217Z
UID:380-1720962000-1720972800@test3.marukan-smile.com
SUMMARY:エンクロス ボードゲーム体験会
DESCRIPTION:申込不要
URL:https://test3.marukan-smile.com/event/%e3%83%9c%e3%83%bc%e3%83%89%e3%82%b2%e3%83%bc%e3%83%a0%e4%bd%93%e9%a8%93%e4%bc%9a/
LOCATION:延岡駅 エンクロス
END:VEVENT
BEGIN:VEVENT
DTSTART;TZID=Asia/Tokyo:20240714T130000
DTEND;TZID=Asia/Tokyo:20240714T180000
DTSTAMP:20260422T031916
CREATED:20240703T125104Z
LAST-MODIFIED:20240703T125104Z
UID:374-1720962000-1720980000@test3.marukan-smile.com
SUMMARY:waiwaiボードゲーム交流会
DESCRIPTION:申込不要
URL:https://test3.marukan-smile.com/event/waiwai%e3%83%9c%e3%83%bc%e3%83%89%e3%82%b2%e3%83%bc%e3%83%a0%e4%ba%a4%e6%b5%81%e4%bc%9a/
LOCATION:waiwai PLAY LAB(延岡駅前)\, 宮崎県延岡市幸町3丁目101番地 延岡駅西口街区ビル1階\, 延岡市\, 宮崎県\, 8820856\, 日本
END:VEVENT
BEGIN:VEVENT
DTSTART;TZID=Asia/Tokyo:20240720T100000
DTEND;TZID=Asia/Tokyo:20240720T200000
DTSTAMP:20260422T031916
CREATED:20240703T125313Z
LAST-MODIFIED:20240703T125418Z
UID:377-1721469600-1721505600@test3.marukan-smile.com
SUMMARY:GAME DAY
DESCRIPTION:不要、しかしマーダーミステリーのみ必要　申し込む
URL:https://test3.marukan-smile.com/event/game-day/
LOCATION:延岡市コワーキングスペース\, 宮崎県延岡市幸町3丁目101番地　延岡駅西口街区ビル2階\, 延岡市\, 宮崎県\, 882-0053\, 日本
END:VEVENT
BEGIN:VEVENT
DTSTART;TZID=Asia/Tokyo:20240728T130000
DTEND;TZID=Asia/Tokyo:20240728T160000
DTSTAMP:20260422T031916
CREATED:20240704T072626Z
LAST-MODIFIED:20240704T073128Z
UID:400-1722171600-1722182400@test3.marukan-smile.com
SUMMARY:エンクロス ボードゲーム体験会
DESCRIPTION:申込不要
URL:https://test3.marukan-smile.com/event/%e3%83%9c%e3%83%bc%e3%83%89%e3%82%b2%e3%83%bc%e3%83%a0%e4%bd%93%e9%a8%93%e4%bc%9a-4/
LOCATION:延岡駅 エンクロス
END:VEVENT
END:VCALENDAR