BEGIN:VCALENDAR
VERSION:2.0
PRODID:-//のまぼど - ECPv6.6.2//NONSGML v1.0//EN
CALSCALE:GREGORIAN
METHOD:PUBLISH
X-WR-CALNAME:のまぼど
X-ORIGINAL-URL:https://test3.marukan-smile.com
X-WR-CALDESC:のまぼど のイベント
REFRESH-INTERVAL;VALUE=DURATION:PT1H
X-Robots-Tag:noindex
X-PUBLISHED-TTL:PT1H
BEGIN:VTIMEZONE
TZID:Asia/Tokyo
BEGIN:STANDARD
TZOFFSETFROM:+0900
TZOFFSETTO:+0900
TZNAME:JST
DTSTART:20240101T000000
END:STANDARD
END:VTIMEZONE
BEGIN:VEVENT
DTSTART;TZID=Asia/Tokyo:20240728T130000
DTEND;TZID=Asia/Tokyo:20240728T160000
DTSTAMP:20260422T041431
CREATED:20240704T072626Z
LAST-MODIFIED:20240704T073128Z
UID:400-1722171600-1722182400@test3.marukan-smile.com
SUMMARY:エンクロス ボードゲーム体験会
DESCRIPTION:申込不要
URL:https://test3.marukan-smile.com/event/%e3%83%9c%e3%83%bc%e3%83%89%e3%82%b2%e3%83%bc%e3%83%a0%e4%bd%93%e9%a8%93%e4%bc%9a-4/
LOCATION:延岡駅 エンクロス
END:VEVENT
END:VCALENDAR