BEGIN:VCALENDAR
VERSION:2.0
PRODID:-//のまぼど - ECPv6.6.2//NONSGML v1.0//EN
CALSCALE:GREGORIAN
METHOD:PUBLISH
X-ORIGINAL-URL:https://test3.marukan-smile.com
X-WR-CALDESC:のまぼど のイベント
REFRESH-INTERVAL;VALUE=DURATION:PT1H
X-Robots-Tag:noindex
X-PUBLISHED-TTL:PT1H
BEGIN:VTIMEZONE
TZID:Asia/Tokyo
BEGIN:STANDARD
TZOFFSETFROM:+0900
TZOFFSETTO:+0900
TZNAME:JST
DTSTART:20240101T000000
END:STANDARD
END:VTIMEZONE
BEGIN:VEVENT
DTSTART;TZID=Asia/Tokyo:20240817T100000
DTEND;TZID=Asia/Tokyo:20240817T200000
DTSTAMP:20260422T031251
CREATED:20240717T072130Z
LAST-MODIFIED:20240717T072130Z
UID:474-1723888800-1723924800@test3.marukan-smile.com
SUMMARY:GAME DAY
DESCRIPTION:
URL:https://test3.marukan-smile.com/event/game-day-2/
LOCATION:延岡市コワーキングスペース\, 宮崎県延岡市幸町3丁目101番地　延岡駅西口街区ビル2階\, 延岡市\, 宮崎県\, 882-0053\, 日本
END:VEVENT
END:VCALENDAR